BEGIN:VCALENDAR
VERSION:2.0
PRODID:-//CFMEU Queensland &amp; NT - ECPv6.15.9//NONSGML v1.0//EN
CALSCALE:GREGORIAN
METHOD:PUBLISH
X-ORIGINAL-URL:https://qnt.cfmeu.org
X-WR-CALDESC:Events for CFMEU Queensland &amp; NT
REFRESH-INTERVAL;VALUE=DURATION:PT1H
X-Robots-Tag:noindex
X-PUBLISHED-TTL:PT1H
BEGIN:VTIMEZONE
TZID:Australia/Melbourne
BEGIN:STANDARD
TZOFFSETFROM:+1100
TZOFFSETTO:+1000
TZNAME:AEST
DTSTART:20240406T160000
END:STANDARD
BEGIN:DAYLIGHT
TZOFFSETFROM:+1000
TZOFFSETTO:+1100
TZNAME:AEDT
DTSTART:20241005T160000
END:DAYLIGHT
BEGIN:STANDARD
TZOFFSETFROM:+1100
TZOFFSETTO:+1000
TZNAME:AEST
DTSTART:20250405T160000
END:STANDARD
BEGIN:DAYLIGHT
TZOFFSETFROM:+1000
TZOFFSETTO:+1100
TZNAME:AEDT
DTSTART:20251004T160000
END:DAYLIGHT
BEGIN:STANDARD
TZOFFSETFROM:+1100
TZOFFSETTO:+1000
TZNAME:AEST
DTSTART:20260404T160000
END:STANDARD
BEGIN:DAYLIGHT
TZOFFSETFROM:+1000
TZOFFSETTO:+1100
TZNAME:AEDT
DTSTART:20261003T160000
END:DAYLIGHT
END:VTIMEZONE
BEGIN:VEVENT
DTSTART;VALUE=DATE:20250405
DTEND;VALUE=DATE:20250414
DTSTAMP:20260424T134030
CREATED:20250129T123915Z
LAST-MODIFIED:20250129T123915Z
UID:10000009-1743811200-1744588799@qnt.cfmeu.org
SUMMARY:School Holidays
DESCRIPTION:
URL:https://qnt.cfmeu.org/event/school-holidays-2/
END:VEVENT
BEGIN:VEVENT
DTSTART;VALUE=DATE:20250414
DTEND;VALUE=DATE:20250415
DTSTAMP:20260424T134030
CREATED:20250129T123942Z
LAST-MODIFIED:20250129T123942Z
UID:10000010-1744588800-1744675199@qnt.cfmeu.org
SUMMARY:Industry RDOs
DESCRIPTION:
URL:https://qnt.cfmeu.org/event/industry-rdos-5/
END:VEVENT
BEGIN:VEVENT
DTSTART;VALUE=DATE:20250415
DTEND;VALUE=DATE:20250418
DTSTAMP:20260424T134030
CREATED:20250129T124024Z
LAST-MODIFIED:20250129T124024Z
UID:10000011-1744675200-1744934399@qnt.cfmeu.org
SUMMARY:EBA RDOs
DESCRIPTION:
URL:https://qnt.cfmeu.org/event/eba-rdos-2/
END:VEVENT
BEGIN:VEVENT
DTSTART;VALUE=DATE:20250418
DTEND;VALUE=DATE:20250419
DTSTAMP:20260424T134030
CREATED:20250129T132829Z
LAST-MODIFIED:20250129T132829Z
UID:10000040-1744934400-1745020799@qnt.cfmeu.org
SUMMARY:Good Friday
DESCRIPTION:
URL:https://qnt.cfmeu.org/event/good-friday/
END:VEVENT
BEGIN:VEVENT
DTSTART;VALUE=DATE:20250418
DTEND;VALUE=DATE:20250422
DTSTAMP:20260424T134030
CREATED:20250129T124116Z
LAST-MODIFIED:20250129T124116Z
UID:10000012-1744934400-1745279999@qnt.cfmeu.org
SUMMARY:Public Holidays
DESCRIPTION:
URL:https://qnt.cfmeu.org/event/public-holidays-3/
END:VEVENT
BEGIN:VEVENT
DTSTART;VALUE=DATE:20250419
DTEND;VALUE=DATE:20250420
DTSTAMP:20260424T134030
CREATED:20250129T132855Z
LAST-MODIFIED:20250129T132855Z
UID:10000041-1745020800-1745107199@qnt.cfmeu.org
SUMMARY:Easter Saturday
DESCRIPTION:
URL:https://qnt.cfmeu.org/event/easter-saturday/
END:VEVENT
BEGIN:VEVENT
DTSTART;VALUE=DATE:20250420
DTEND;VALUE=DATE:20250421
DTSTAMP:20260424T134030
CREATED:20250129T132925Z
LAST-MODIFIED:20250129T132925Z
UID:10000042-1745107200-1745193599@qnt.cfmeu.org
SUMMARY:Easter Sunday
DESCRIPTION:
URL:https://qnt.cfmeu.org/event/easter-sunday/
END:VEVENT
BEGIN:VEVENT
DTSTART;VALUE=DATE:20250421
DTEND;VALUE=DATE:20250422
DTSTAMP:20260424T134030
CREATED:20250129T132945Z
LAST-MODIFIED:20250129T132945Z
UID:10000043-1745193600-1745279999@qnt.cfmeu.org
SUMMARY:Easter Monday
DESCRIPTION:
URL:https://qnt.cfmeu.org/event/easter-monday/
END:VEVENT
BEGIN:VEVENT
DTSTART;VALUE=DATE:20250422
DTEND;VALUE=DATE:20250425
DTSTAMP:20260424T134030
CREATED:20250129T124208Z
LAST-MODIFIED:20250129T124208Z
UID:10000013-1745280000-1745539199@qnt.cfmeu.org
SUMMARY:EBA RDOs
DESCRIPTION:
URL:https://qnt.cfmeu.org/event/eba-rdos-3/
END:VEVENT
BEGIN:VEVENT
DTSTART;VALUE=DATE:20250425
DTEND;VALUE=DATE:20250426
DTSTAMP:20260424T134030
CREATED:20250129T124237Z
LAST-MODIFIED:20250129T124237Z
UID:10000014-1745539200-1745625599@qnt.cfmeu.org
SUMMARY:Public Holidays
DESCRIPTION:
URL:https://qnt.cfmeu.org/event/public-holidays-4/
END:VEVENT
BEGIN:VEVENT
DTSTART;VALUE=DATE:20250425
DTEND;VALUE=DATE:20250426
DTSTAMP:20260424T134030
CREATED:20250129T133026Z
LAST-MODIFIED:20250129T133026Z
UID:10000044-1745539200-1745625599@qnt.cfmeu.org
SUMMARY:Anzac Day
DESCRIPTION:
URL:https://qnt.cfmeu.org/event/anzac-day/
END:VEVENT
END:VCALENDAR