BEGIN:VCALENDAR
VERSION:2.0
PRODID:-//CFMEU Queensland &amp; NT - ECPv6.15.9//NONSGML v1.0//EN
CALSCALE:GREGORIAN
METHOD:PUBLISH
X-WR-CALNAME:CFMEU Queensland &amp; NT
X-ORIGINAL-URL:https://qnt.cfmeu.org
X-WR-CALDESC:Events for CFMEU Queensland &amp; NT
REFRESH-INTERVAL;VALUE=DURATION:PT1H
X-Robots-Tag:noindex
X-PUBLISHED-TTL:PT1H
BEGIN:VTIMEZONE
TZID:Australia/Melbourne
BEGIN:STANDARD
TZOFFSETFROM:+1100
TZOFFSETTO:+1000
TZNAME:AEST
DTSTART:20240406T160000
END:STANDARD
BEGIN:DAYLIGHT
TZOFFSETFROM:+1000
TZOFFSETTO:+1100
TZNAME:AEDT
DTSTART:20241005T160000
END:DAYLIGHT
BEGIN:STANDARD
TZOFFSETFROM:+1100
TZOFFSETTO:+1000
TZNAME:AEST
DTSTART:20250405T160000
END:STANDARD
BEGIN:DAYLIGHT
TZOFFSETFROM:+1000
TZOFFSETTO:+1100
TZNAME:AEDT
DTSTART:20251004T160000
END:DAYLIGHT
BEGIN:STANDARD
TZOFFSETFROM:+1100
TZOFFSETTO:+1000
TZNAME:AEST
DTSTART:20260404T160000
END:STANDARD
BEGIN:DAYLIGHT
TZOFFSETFROM:+1000
TZOFFSETTO:+1100
TZNAME:AEDT
DTSTART:20261003T160000
END:DAYLIGHT
END:VTIMEZONE
BEGIN:VEVENT
DTSTART;VALUE=DATE:20250920
DTEND;VALUE=DATE:20251006
DTSTAMP:20260424T084202
CREATED:20250129T131247Z
LAST-MODIFIED:20250911T045042Z
UID:10000026-1758326400-1759708799@qnt.cfmeu.org
SUMMARY:School Holidays
DESCRIPTION:
URL:https://qnt.cfmeu.org/event/school-holidays-5/
END:VEVENT
BEGIN:VEVENT
DTSTART;VALUE=DATE:20250922
DTEND;VALUE=DATE:20250923
DTSTAMP:20260424T084202
CREATED:20250129T131323Z
LAST-MODIFIED:20250129T131323Z
UID:10000027-1758499200-1758585599@qnt.cfmeu.org
SUMMARY:Industry RDOs
DESCRIPTION:
URL:https://qnt.cfmeu.org/event/industry-rdos-10/
END:VEVENT
END:VCALENDAR