BEGIN:VCALENDAR
VERSION:2.0
PRODID:-//CFMEU Queensland &amp; NT - ECPv6.15.9//NONSGML v1.0//EN
CALSCALE:GREGORIAN
METHOD:PUBLISH
X-WR-CALNAME:CFMEU Queensland &amp; NT
X-ORIGINAL-URL:https://qnt.cfmeu.org
X-WR-CALDESC:Events for CFMEU Queensland &amp; NT
REFRESH-INTERVAL;VALUE=DURATION:PT1H
X-Robots-Tag:noindex
X-PUBLISHED-TTL:PT1H
BEGIN:VTIMEZONE
TZID:Australia/Melbourne
BEGIN:STANDARD
TZOFFSETFROM:+1100
TZOFFSETTO:+1000
TZNAME:AEST
DTSTART:20240406T160000
END:STANDARD
BEGIN:DAYLIGHT
TZOFFSETFROM:+1000
TZOFFSETTO:+1100
TZNAME:AEDT
DTSTART:20241005T160000
END:DAYLIGHT
BEGIN:STANDARD
TZOFFSETFROM:+1100
TZOFFSETTO:+1000
TZNAME:AEST
DTSTART:20250405T160000
END:STANDARD
BEGIN:DAYLIGHT
TZOFFSETFROM:+1000
TZOFFSETTO:+1100
TZNAME:AEDT
DTSTART:20251004T160000
END:DAYLIGHT
BEGIN:STANDARD
TZOFFSETFROM:+1100
TZOFFSETTO:+1000
TZNAME:AEST
DTSTART:20260404T160000
END:STANDARD
BEGIN:DAYLIGHT
TZOFFSETFROM:+1000
TZOFFSETTO:+1100
TZNAME:AEDT
DTSTART:20261003T160000
END:DAYLIGHT
END:VTIMEZONE
BEGIN:VEVENT
DTSTART;VALUE=DATE:20251201
DTEND;VALUE=DATE:20251202
DTSTAMP:20260424T015751
CREATED:20250129T131837Z
LAST-MODIFIED:20250129T131837Z
UID:10000033-1764547200-1764633599@qnt.cfmeu.org
SUMMARY:Industry RDOs
DESCRIPTION:
URL:https://qnt.cfmeu.org/event/industry-rdos-13/
END:VEVENT
BEGIN:VEVENT
DTSTART;VALUE=DATE:20251213
DTEND;VALUE=DATE:20260101
DTSTAMP:20260424T015751
CREATED:20250129T131937Z
LAST-MODIFIED:20250911T045448Z
UID:10000034-1765584000-1767225599@qnt.cfmeu.org
SUMMARY:School Holidays
DESCRIPTION:
URL:https://qnt.cfmeu.org/event/school-holidays-7/
END:VEVENT
BEGIN:VEVENT
DTSTART;VALUE=DATE:20251222
DTEND;VALUE=DATE:20251225
DTSTAMP:20260424T015751
CREATED:20250129T132001Z
LAST-MODIFIED:20250129T132001Z
UID:10000035-1766361600-1766620799@qnt.cfmeu.org
SUMMARY:EBA RDOs
DESCRIPTION:
URL:https://qnt.cfmeu.org/event/eba-rdos-6/
END:VEVENT
BEGIN:VEVENT
DTSTART;VALUE=DATE:20251225
DTEND;VALUE=DATE:20251226
DTSTAMP:20260424T015751
CREATED:20250129T133423Z
LAST-MODIFIED:20260220T024848Z
UID:10000048-1766620800-1766707199@qnt.cfmeu.org
SUMMARY:Christmas Day
DESCRIPTION:
URL:https://qnt.cfmeu.org/event/christmas-day/2025-12-25/
END:VEVENT
BEGIN:VEVENT
DTSTART;VALUE=DATE:20251225
DTEND;VALUE=DATE:20251227
DTSTAMP:20260424T015751
CREATED:20250129T132052Z
LAST-MODIFIED:20250129T132052Z
UID:10000036-1766620800-1766793599@qnt.cfmeu.org
SUMMARY:Public Holidays
DESCRIPTION:
URL:https://qnt.cfmeu.org/event/public-holidays-6/
END:VEVENT
BEGIN:VEVENT
DTSTART;VALUE=DATE:20251226
DTEND;VALUE=DATE:20251227
DTSTAMP:20260424T015751
CREATED:20250129T133434Z
LAST-MODIFIED:20260220T031054Z
UID:10000049-1766707200-1766793599@qnt.cfmeu.org
SUMMARY:Boxing Day
DESCRIPTION:
URL:https://qnt.cfmeu.org/event/boxing-day/2025-12-26/
END:VEVENT
END:VCALENDAR