BEGIN:VCALENDAR
VERSION:2.0
PRODID:-//CFMEU Queensland &amp; NT - ECPv6.15.9//NONSGML v1.0//EN
CALSCALE:GREGORIAN
METHOD:PUBLISH
X-WR-CALNAME:CFMEU Queensland &amp; NT
X-ORIGINAL-URL:https://qnt.cfmeu.org
X-WR-CALDESC:Events for CFMEU Queensland &amp; NT
REFRESH-INTERVAL;VALUE=DURATION:PT1H
X-Robots-Tag:noindex
X-PUBLISHED-TTL:PT1H
BEGIN:VTIMEZONE
TZID:Australia/Melbourne
BEGIN:STANDARD
TZOFFSETFROM:+1100
TZOFFSETTO:+1000
TZNAME:AEST
DTSTART:20250405T160000
END:STANDARD
BEGIN:DAYLIGHT
TZOFFSETFROM:+1000
TZOFFSETTO:+1100
TZNAME:AEDT
DTSTART:20251004T160000
END:DAYLIGHT
BEGIN:STANDARD
TZOFFSETFROM:+1100
TZOFFSETTO:+1000
TZNAME:AEST
DTSTART:20260404T160000
END:STANDARD
BEGIN:DAYLIGHT
TZOFFSETFROM:+1000
TZOFFSETTO:+1100
TZNAME:AEDT
DTSTART:20261003T160000
END:DAYLIGHT
BEGIN:STANDARD
TZOFFSETFROM:+1100
TZOFFSETTO:+1000
TZNAME:AEST
DTSTART:20270403T160000
END:STANDARD
BEGIN:DAYLIGHT
TZOFFSETFROM:+1000
TZOFFSETTO:+1100
TZNAME:AEDT
DTSTART:20271002T160000
END:DAYLIGHT
END:VTIMEZONE
BEGIN:VEVENT
DTSTART;VALUE=DATE:20260608
DTEND;VALUE=DATE:20260609
DTSTAMP:20260421T220644
CREATED:20260218T233306Z
LAST-MODIFIED:20260220T034756Z
UID:10000059-1780876800-1780961400@qnt.cfmeu.org
SUMMARY:Industry RDO
DESCRIPTION:
URL:https://qnt.cfmeu.org/event/industry-rdos-14/2026-06-08/
END:VEVENT
BEGIN:VEVENT
DTSTART;VALUE=DATE:20260608
DTEND;VALUE=DATE:20260609
DTSTAMP:20260421T220644
CREATED:20260219T215153Z
LAST-MODIFIED:20260220T002948Z
UID:10000104-1780876800-1780961400@qnt.cfmeu.org
SUMMARY:NT Only Public Holiday
DESCRIPTION:
URL:https://qnt.cfmeu.org/event/nt-only-public-holiday/2026-06-08/
END:VEVENT
BEGIN:VEVENT
DTSTART;VALUE=DATE:20260627
DTEND;VALUE=DATE:20260713
DTSTAMP:20260421T220644
CREATED:20260219T213624Z
LAST-MODIFIED:20260219T213624Z
UID:10000095-1782518400-1783900799@qnt.cfmeu.org
SUMMARY:School Holidays
DESCRIPTION:
URL:https://qnt.cfmeu.org/event/school-holidays-10/
END:VEVENT
END:VCALENDAR