BEGIN:VCALENDAR
VERSION:2.0
PRODID:-//CFMEU Queensland &amp; NT - ECPv6.15.9//NONSGML v1.0//EN
CALSCALE:GREGORIAN
METHOD:PUBLISH
X-WR-CALNAME:CFMEU Queensland &amp; NT
X-ORIGINAL-URL:https://qnt.cfmeu.org
X-WR-CALDESC:Events for CFMEU Queensland &amp; NT
REFRESH-INTERVAL;VALUE=DURATION:PT1H
X-Robots-Tag:noindex
X-PUBLISHED-TTL:PT1H
BEGIN:VTIMEZONE
TZID:Australia/Melbourne
BEGIN:STANDARD
TZOFFSETFROM:+1100
TZOFFSETTO:+1000
TZNAME:AEST
DTSTART:20250405T160000
END:STANDARD
BEGIN:DAYLIGHT
TZOFFSETFROM:+1000
TZOFFSETTO:+1100
TZNAME:AEDT
DTSTART:20251004T160000
END:DAYLIGHT
BEGIN:STANDARD
TZOFFSETFROM:+1100
TZOFFSETTO:+1000
TZNAME:AEST
DTSTART:20260404T160000
END:STANDARD
BEGIN:DAYLIGHT
TZOFFSETFROM:+1000
TZOFFSETTO:+1100
TZNAME:AEDT
DTSTART:20261003T160000
END:DAYLIGHT
BEGIN:STANDARD
TZOFFSETFROM:+1100
TZOFFSETTO:+1000
TZNAME:AEST
DTSTART:20270403T160000
END:STANDARD
BEGIN:DAYLIGHT
TZOFFSETFROM:+1000
TZOFFSETTO:+1100
TZNAME:AEDT
DTSTART:20271002T160000
END:DAYLIGHT
END:VTIMEZONE
BEGIN:VEVENT
DTSTART;VALUE=DATE:20261226
DTEND;VALUE=DATE:20261227
DTSTAMP:20260420T014249
CREATED:20250129T133434Z
LAST-MODIFIED:20260220T031054Z
UID:10000107-1798243200-1798327800@qnt.cfmeu.org
SUMMARY:Boxing Day
DESCRIPTION:
URL:https://qnt.cfmeu.org/event/boxing-day/2026-12-26/
END:VEVENT
BEGIN:VEVENT
DTSTART;VALUE=DATE:20261228
DTEND;VALUE=DATE:20261229
DTSTAMP:20260420T014249
CREATED:20250129T133434Z
LAST-MODIFIED:20260220T031054Z
UID:10000108-1798416000-1798500600@qnt.cfmeu.org
SUMMARY:Boxing Day
DESCRIPTION:
URL:https://qnt.cfmeu.org/event/boxing-day/2026-12-28/
END:VEVENT
END:VCALENDAR